{"text_format":"1","workbook":"xlsx","n_sheets":27,"sheets":["Deckblatt","Seite 5","Deckbl","Inhalt","Impressum","1.","2.","Seite 7","Seite 8","Seite 9","3.","4.","5.","Grafik","Grafik von Seite 13","Seite 12","Seite 13","6.","7.","8.","9.","10.","11.","Seite 16","Seite 20","entfällt Datenschutz","Seite 13_1"],"not_rendered":{"charts":4,"images":1,"macros":1,"external_links":0,"defined_names":1,"comments":1,"pivot_tables":0},"unopened":[],"bounds":{"document_bytes":16777216,"sheet_cells":100000,"rows_first":2000,"rows_last":500,"rows_between":2000,"halvings":0,"cell_chars":16384,"cell_head_chars":4096},"cells_cut":0,"cells_raw":0,"read":"whole","date_system":"1900"}

{"sheet":"Deckblatt","index":0,"n_rows":46,"n_cols":1,"rows_kept":46,"cut":false,"hidden":true,"merged":[]}
[]
[]
[]
["Statistischer Bericht"]
[]
[]
[]
[]
[]
[]
[]
[]
[]
[]
[]
[]
[]
[]
[]
[]
["Gerichtliche Ehelösungen"]
[]
["1991 - 2017"]
[]
["Land Sachsen-Anhalt"]
[]
[]
[]
[]
[]
[]
[]
[]
[]
[]
[]
[]
[]
[]
[]
[]
[]
[]
[]
[]
["Statistisches Landesamt Sachsen-Anhalt"]

{"sheet":"Seite 5","index":1,"n_rows":59,"n_cols":6,"rows_kept":59,"cut":false,"hidden":true,"merged":[[35,0,37,0],[36,2,37,2],[36,3,37,3],[35,1,37,1],[2,0,2,5],[5,0,6,0],[35,2,35,3],[30,0,30,5],[32,0,32,5]]}
[null,null,null,null,null,5]
[]
[{"$f":" CONCATENATE(#REF!, \" \",#REF!)","v":{"$error":"#REF!"}}]
[]
[]
["Jahr","Eheschließungen",null,"Ehescheidungen"]
[null,"insgesamt","je 10 000 der\nmittleren\nBevölkerung","insgesamt","je 10 000 der\nmittleren\nBevölkerung","je 100\nEheschließungen"]
[]
[1980,25923,{"$f":"(B9/3083615)*10000","v":84.066914968308311},8482,27.5,{"$f":"D9*100/B9","v":32.719978397562009}]
[1985,23740,{"$f":"(B10/3026754)*10000","v":78.43386016835197},9191,30.4,38.715248525695031]
[1990,18393,{"$f":"(B11/2890474)*10000","v":63.633161896630099},5990,20.7,32.566737345729351]
[1995,9667,{"$f":"(B12/2750367)*10000","v":35.148036607478204},3867,14.1,40.002068894176062]
[2000,10310,{"$f":"(B13/2633007)*10000","v":39.156751197395224},5823,22.1,56.479146459747817]
[2001,9359,{"$f":"(B14/2598378)*10000","v":36.018623926157012},5829,22.4,62.282295116999677]
[2002,9274,{"$f":"(B15/2564828)*10000","v":36.158370073938684},5838,22.8,62.950183308173386]
[2003,9314,{"$f":"(B16/2535412)*10000","v":36.735646908668095},5863,23.1,62.948249946317375]
[2004,10748,{"$f":"(B17/2509790)*10000","v":42.824300041039294},5866,23.4,54.577595831782659]
[2005,10980,{"$f":"(B18/2482446)*10000","v":44.230569365859317},5227,21.1,47.604735883424411]
[2006,10114,{"$f":"(B19/2455784)*10000","v":41.184403840077138},5097,20.8,50.395491398062092]
[2007,10117,{"$f":"(B20/2427603)*10000","v":41.674853754917919},4924,20.3,48.670554512207175]
[2008,10515,{"$f":"(B21/2397421)*10000","v":43.859630828294236},4994,20.8,47.494056110318596]
[2009,10346,{"$f":"(B22/2367938)*10000","v":43.692022341801177},4729,20,45.708486371544559]
[2010,10453,{"$f":"(B23/2344849)*10000","v":44.578563481059973},4500,19.2,{"$f":"D23*100/B23","v":43.049842150578783}]
[2011,10264,{"$f":"(B24/2287061)*10000","v":44.878558114540887},4808,20.7,46.843335931410756]
[2012,10707,{"$f":"(B25/2268065)*10000","v":47.207641756298869},4620,20.399999999999999,43.149341552255535]
[2013,10083,{"$f":"(B26/2251985)*10000","v":44.773832863007527},4220,18.7,41.852623227214124]
[2014,10146,{"$f":"(B27/2240063)*10000","v":45.293368981140262},4199,{"$f":"100*D27/22406","v":18.740515933232171},{"$f":"D27*100/B27","v":41.385767790262172}]
[2015,10575,{"$f":"(B28/2240509)*10000","v":47.199096276783536},4109,{"$f":"(100*D28)/22405","v":18.339656326712788},{"$f":"D28*100/B28","v":38.855791962174941}]
[2016,10465,{"$f":"B29/2240861*10000","v":46.700799380238223},4183,18.7,40]
[2017,10424,{"$f":"B30/2229667*10000","v":46.751375878101975},3808,{"$f":"D30/2229667*10000","v":17.078783513412542},{"$f":"D30/B30*100","v":36.531082118188799}]
[]
[]
[{"$f":"CONCATENATE(#REF!, \" \",#REF!)","v":{"$error":"#REF!"}}]
[]
[]
["Jahr","Ehelösungen insgesamt","Davon"]
[null,null,"Scheidung der \nEhe","Aufhebung/ Nichtigkeit  der \nEhe"]
[]
[]
[1991,1520,1519,1]
[1995,3869,3867,2]
[2000,5826,5823,3]
[2001,5832,5829,3]
[2002,5840,5838,2]
[2003,5871,5863,8]
[2004,5874,5866,8]
[2005,5239,5227,12]
[2006,5102,5097,5]
[2007,4930,4924,6]
[2008,4999,4994,5]
[2009,4737,4729,8]
[2010,4506,4500,6]
[2011,4815,4808,7]
[2012,4621,4620,1]
[2013,4228,4220,8]
[2014,"4 199",4199,0]
[2015,"4 113",4109,4]
[2016,"4 184","4 183",1]
[2017,"3 810","3 808",2]

{"sheet":"Deckbl","index":2,"n_rows":0,"n_cols":0,"rows_kept":0,"cut":false,"hidden":false,"merged":[]}

{"sheet":"Inhalt","index":3,"n_rows":14,"n_cols":1,"rows_kept":14,"cut":false,"hidden":false,"merged":[]}
["Inhaltsverzeichnis"]
[]
["Impressum"]
["1. Eheschließungen und Ehescheidungen seit 1980 in Sachsen-Anhalt"]
["2. Ehescheidungen seit 1991 in Sachsen-Anhalt nach kreisfreien Städten und Landkreisen"]
["3. Ehescheidungen seit 2010 in Sachsen-Anhalt nach Monaten"]
["4. Ehescheidungen in Sachsen-Anhalt nach Art der Entscheidung in der Ehesache"]
["5. Anzahl der Ehescheidungen nach der Ehedauer seit 1991 in Sachsen-Anhalt"]
["6. Anteil der Ehescheidungen nach der Ehedauer an den Ehescheidungen insgesamt seit 1991 in Sachsen-Anhalt"]
["7. Ehescheidungen seit 2016 in Sachsen-Anhalt nach dem Eheschließungsjahr"]
["8. Ehescheidungen in Sachsen-Anhalt nach dem Altersunterschied der Ehegatten"]
["9. Ehescheidungen seit 2015 in Sachsen-Anhalt nach Staatsangehörigkeit der Ehegatten"]
["10. Ehescheidungen seit 1991 in Sachsen-Anhalt nach der Anzahl der gemeinschaftlichen minderjährigen Kindern"]
["11. Ehescheidungen in Sachsen-Anhalt nach kreisfreien Städten und Landkreisen sowie nach der Anzahl der gemeinschaftlichen minderjährigen Kinder"]

{"sheet":"Impressum","index":4,"n_rows":49,"n_cols":5,"rows_kept":49,"cut":false,"hidden":false,"merged":[]}
[]
["Herausgabemonat Februar 2024"]
[]
["Inhaltliche Verantwortung:"]
[]
["Dezernat Steuern, Kommunale Finanzen, Justiz "]
["Frau Rittmann",null," ","Telefon:","0345  2318-204"]
[]
["Informations- und Auskunftsdienst:"]
[]
["Frau Hannemann",null,"Telefon:","0345  2318-777"]
["Frau Heyl",null,"Telefon:","0345  2318-716"]
["Frau Booch",null,"Telefon:","0345  2318-715"]
[null,null,"Telefax:","0345  2318-913"]
[null,null,"E-Mail:","info@stala.mi.sachsen-anhalt.de"]
[]
[]
[null,null,"Internet:",null,"https://statistik.sachsen-anhalt.de"]
[null,null,"X (ehemals Twitter):",null,"@StatistikLSA"]
[null,null,"Mastodon:",null,"@StatistikLSA@social.sachsen-anhalt.de"]
[null,null,"Bluesky:",null,"@statistiklsa.bsky.social"]
[]
["Vertrieb:",null,"Telefon:","0345  2318-718"]
[null,null,"E-Mail:","shop@stala.mi.sachsen-anhalt.de"]
[]
[]
["Bibliothek und",null,"Merseburger Straße 2"]
["Besucherdienst:",null,"Montag - Freitag: 8.00 Uhr - 12.00 Uhr"]
[null,null,"Telefon:","0345  2318-714"]
[null,null,"E-Mail:","bibliothek@stala.mi.sachsen-anhalt.de"]
[]
[]
["Schriftliche"]
["Bestellungen an:",null,"Statistisches Landesamt Sachsen-Anhalt"]
[null,null,"Öffentlichkeitsarbeit"]
[null,null,"Postfach 20 11 56"]
[null,null,"06012 Halle (Saale)"]
[]
["Herausgabe:",null,"Statistisches Landesamt Sachsen-Anhalt"]
[]
[]
["©","Statistisches Landesamt Sachsen-Anhalt, Halle (Saale) 2024"]
[null,"Auszugsweise Vervielfältigung und Verbreitung mit Quellenangabe gestattet. "]
[]
[]
["Bezug:",null,"kostenfrei als Excel-Datei verfügbar - Bestell-Nr.: 6B601"]
[]
[]
["Grafik:",null,"Pixabay.com/ kalhh"]

{"sheet":"1.","index":5,"n_rows":36,"n_cols":9,"rows_kept":36,"cut":false,"hidden":false,"merged":[[35,0,35,5],[1,0,1,8],[4,0,5,0],[5,1,5,2],[4,1,4,4],[4,5,4,9],[5,8,5,9],[5,6,5,7],[5,3,5,4]]}
[]
["1. Eheschließungen und Ehescheidungen seit 1980 in Sachsen-Anhalt"]
[]
[]
["Jahr","Eheschließungen1",null,null,null,"Ehescheidungen"]
[null,"insgesamt",null,"je 10 000 der\nmittleren\nBevölkerung",null,"insgesamt","je 10 000 der\nmittleren\nBevölkerung",null,"je 100\nEheschließungen"]
[]
[1980,25923,null,{"$f":"(B8/3083615)*10000","v":84.066914968308311},null,8482,27.5,null,{"$f":"F8*100/B8","v":32.719978397562009}]
[1985,23740,null,{"$f":"(B9/3026754)*10000","v":78.43386016835197},null,9191,30.4,null,38.715248525695031]
[1990,18393,null,{"$f":"(B10/2890474)*10000","v":63.633161896630099},null,5990,20.7,null,32.566737345729351]
[1995,9667,null,{"$f":"(B11/2750367)*10000","v":35.148036607478204},null,3867,14.1,null,40.002068894176062]
[2000,10310,null,{"$f":"(B12/2633007)*10000","v":39.156751197395224},null,5823,22.1,null,56.479146459747817]
[2001,9359,null,{"$f":"(B13/2598378)*10000","v":36.018623926157012},null,5829,22.4,null,62.282295116999677]
[2002,9274,null,{"$f":"(B14/2564828)*10000","v":36.158370073938684},null,5838,22.8,null,62.950183308173386]
[2003,9314,null,{"$f":"(B15/2535412)*10000","v":36.735646908668095},null,5863,23.1,null,62.948249946317375]
[2004,10748,null,{"$f":"(B16/2509790)*10000","v":42.824300041039294},null,5866,23.4,null,54.577595831782659]
[2005,10980,null,{"$f":"(B17/2482446)*10000","v":44.230569365859317},null,5227,21.1,null,47.604735883424411]
[2006,10114,null,{"$f":"(B18/2455784)*10000","v":41.184403840077138},null,5097,20.8,null,50.395491398062092]
[2007,10117,null,{"$f":"(B19/2427603)*10000","v":41.674853754917919},null,4924,20.3,null,48.670554512207175]
[2008,10515,null,{"$f":"(B20/2397421)*10000","v":43.859630828294236},null,4994,20.8,null,47.494056110318596]
[2009,10346,null,{"$f":"(B21/2367938)*10000","v":43.692022341801177},null,4729,20,null,45.708486371544559]
[2010,10453,null,{"$f":"(B22/2344849)*10000","v":44.578563481059973},null,4500,19.2,null,43.049842150578783]
[2011,10264,null,{"$f":"(B23/2287061)*10000","v":44.878558114540887},null,4808,20.7,null,46.843335931410756]
[2012,10707,null,{"$f":"(B24/2268065)*10000","v":47.207641756298869},null,4620,20.399999999999999,null,43.149341552255535]
[2013,10083,null,{"$f":"(B25/2251985)*10000","v":44.773832863007527},null,4220,18.7,null,41.852623227214124]
[2014,10146,null,{"$f":"(B26/2240063)*10000","v":45.293368981140262},null,4199,{"$f":"100*F26/22406","v":18.740515933232171},null,{"$f":"F26*100/B26","v":41.385767790262172}]
[2015,10575,null,{"$f":"(B27/2240509)*10000","v":47.199096276783536},null,4109,{"$f":"(100*F27)/22405","v":18.339656326712788},null,{"$f":"F27*100/B27","v":38.855791962174941}]
[2016,10465,null,{"$f":"B28/2240861*10000","v":46.700799380238223},null,4183,18.7,null,40]
[2017,10424,null,{"$f":"B29/2229667*10000","v":46.751375878101975},null,3808,{"$f":"F29/2229667*10000","v":17.078783513412542},null,{"$f":"F29/B29*100","v":36.531082118188799}]
[2018,11370,null,{"$f":"B30/2215701*10000","v":51.315588159232675},null,3479,{"$f":"F30/2215701*10000","v":15.70157706297014},null,{"$f":"F30/B30*100","v":30.598065083553212}]
[2019,10217,null,{"$f":"B31/2201552*10000","v":46.408170236269683},null,3546,{"$f":"F31/2201552*10000","v":16.106819189371862},null,{"$f":"F31/B31*100","v":34.706861113829888}]
[2020,9187,null,{"$f":"B32/2187733*10000","v":41.99324140560114},null,3389,{"$f":"F32/2187733*10000","v":15.490921424140881},null,{"$f":"F32/B32*100","v":36.889082399042124}]
[2021,8427,null,{"$f":"B33/2174969*10000","v":38.745379819206619},null,3458,{"$f":"F33/2174969*10000","v":15.899077182249494},null,{"$f":"F33/B33*100","v":41.034769194256555}]
[]
[]
["1 ab 2018 einschließlich gleichgeschlechtliche Eheschließungen"]

{"sheet":"2.","index":6,"n_rows":47,"n_cols":7,"rows_kept":47,"cut":false,"hidden":false,"merged":[]}
[]
["2. Ehescheidungen seit 1991 in Sachsen-Anhalt nach kreisfreien Städten und Landkreisen"]
[]
[]
["Kreisfreie Stadt\nLandkreis\nLand",1991,1995,2000,2005,2010,2015]
[]
["Dessau-Roßlau, Stadt",55,207,199,179,186,162]
["Halle (Saale), Stadt",72,335,814,628,445,525]
["Magdeburg, Landeshauptstadt",149,380,711,579,448,411]
[]
["Altmarkkreis Salzwedel",57,177,241,215,175,175]
["Anhalt-Bitterfeld",173,277,397,363,394,317]
["Börde",92,308,369,420,371,366]
["Burgenlandkreis",96,370,407,396,330,301]
["Harz",223,391,584,472,494,415]
["Jerichower Land",81,133,231,199,154,157]
["Mansfeld-Südharz",92,183,363,282,306,256]
["Saalekreis",53,159,352,479,262,236]
["Salzlandkreis",174,401,536,415,480,384]
["Stendal",126,288,323,286,239,205]
["Wittenberg",76,258,296,314,216,199]
[]
["Sachsen-Anhalt",{"$f":"SUM(B7:B22)","v":1519},3867,5823,5227,4500,{"$f":"SUM(G7:G21)","v":4109}]
[]
[]
["Noch 2. Ehescheidungen seit 1991 in Sachsen-Anhalt nach kreisfreien Städten und Landkreisen "]
[]
[]
["Kreisfreie Stadt\nLandkreis\nLand",2016,2017,2018,2019,2020,2021]
[]
["Dessau-Roßlau, Stadt",144,116,133,107,115,128]
["Halle (Saale), Stadt",504,552,425,424,452,466]
["Magdeburg, Landeshauptstadt",391,317,378,357,310,338]
[]
["Altmarkkreis Salzwedel",184,148,145,129,119,113]
["Anhalt-Bitterfeld",311,291,320,311,279,231]
["Börde",357,337,307,282,263,328]
["Burgenlandkreis",354,293,281,260,277,266]
["Harz",449,375,365,390,383,377]
["Jerichower Land",225,191,118,143,150,151]
["Mansfeld-Südharz",242,254,192,234,230,216]
["Saalekreis",251,204,164,220,192,173]
["Salzlandkreis",337,374,316,304,268,325]
["Stendal",230,183,189,202,198,186]
["Wittenberg",204,173,146,183,153,160]
[]
["Sachsen-Anhalt",{"$f":"SUM(B31:B45)","v":4183},4183,{"$f":"SUM(D31:D45)","v":3479},{"$f":"SUM(E31:E45)","v":3546},{"$f":"SUM(F31:F45)","v":3389},{"$f":"SUM(G31:G45)","v":3458}]

{"sheet":"Seite 7","index":7,"n_rows":65,"n_cols":8,"rows_kept":65,"cut":false,"hidden":true,"merged":[[2,0,2,7],[6,7,8,7],[8,5,8,6],[8,3,8,4],[5,2,8,2],[5,1,8,1],[5,0,8,0],[45,0,48,0],[52,0,55,0],[59,0,62,0],[10,0,13,0],[17,0,20,0],[24,0,27,0],[31,0,34,0],[38,0,41,0]]}
[null,null,null,null,null,null,null,7]
[]
[{"$f":" CONCATENATE(#REF!, \" \",#REF!)","v":{"$error":"#REF!"}}]
[]
[]
["Jahr","Entscheidung\nin der\nEhesache","Geschiedene Ehen","Das Verfahren wurde beantragt"]
[null,null,null,"vom Mann",null,"von der Frau",null,"von\nbeiden Ehepartnern"]
[null,null,null,"ohne","mit","ohne","mit"]
[null,null,null,"Zustimmung der Frau",null,"Zustimmung des Mannes"]
[]
[1991,"vor einjähriger Trennung",280,19,38,51,134,38]
[null,"nach einjähriger Trennung",633,0,165,0,390,78]
[null,"nach dreijähriger Trennung",31,8,4,6,8,5]
[null,"aufgrund anderer Vorschriften",36,3,7,7,18,1]
[]
[null,"Insgesamt",{"$f":"SUM(C11:C14)","v":980},30,214,64,550,122]
[]
[1995,"vor einjähriger Trennung",11,0,2,0,9,0]
[null,"nach einjähriger Trennung",3407,0,820,0,2587,0]
[null,"nach dreijähriger Trennung",108,4,22,10,72,0]
[null,"aufgrund anderer Vorschriften",0,0,0,0,0,0]
[]
[null,"Insgesamt",{"$f":"SUM(C18:C21)","v":3526},4,844,10,2668,0]
[]
[2000,"vor einjähriger Trennung",4,0,1,1,2,0]
[null,"nach einjähriger Trennung",4929,0,1508,0,3328,93]
[null,"nach dreijähriger Trennung",737,10,221,30,463,13]
[null,"aufgrund anderer Vorschriften",0,0,0,0,0,0]
[]
[null,"Insgesamt",{"$f":"SUM(C25:C28)","v":5670},10,1730,31,3793,106]
[]
[2005,"vor einjähriger Trennung",22,1,9,2,9,1]
[null,"nach einjähriger Trennung",4799,85,1495,173,2795,251]
[null,"nach dreijähriger Trennung",403,16,117,46,202,22]
[null,"aufgrund anderer Vorschriften",3,0,2,1,0,0]
[]
[null,"Insgesamt",{"$f":"SUM(C32:C35)","v":5227},102,1623,222,3006,274]
[]
[2010,"vor einjähriger Trennung",106,4,35,1,62,4]
[null,"nach einjähriger Trennung",3974,41,1458,48,2277,150]
[null,"nach dreijähriger Trennung",418,8,156,5,232,17]
[null,"aufgrund anderer Vorschriften",2,0,1,0,0,0]
[]
[null,"Insgesamt",{"$f":"SUM(C39:C42)","v":4500},53,1650,54,2571,171]
[]
[2015,"vor einjähriger Trennung",49,0,18,2,28,1]
[null,"nach einjähriger Trennung",3669,34,1371,34,2106,124]
[null,"nach dreijähriger Trennung",359,9,142,6,177,25]
[null,"aufgrund anderer Vorschriften",32,2,14,3,13,0]
[]
[null,"Insgesamt",{"$f":"SUM(C46:C49)","v":4109},45,1545,45,2324,150]
[]
[2016,"vor einjähriger Trennung",31,0,14,0,16,1]
[null,"nach einjähriger Trennung",3750,23,1449,29,2112,137]
[null,"nach dreijähriger Trennung",343,8,124,11,171,29]
[null,"aufgrund anderer Vorschriften",59,7,14,15,23,0]
[]
[null,"Insgesamt",{"$f":"SUM(C53:C56)","v":4183},{"$f":"SUM(D53:D56)","v":38},{"$f":"E53+E55+E54+E56","v":1601},{"$f":"SUM(F53:F56)","v":55},{"$f":"SUM(G53:G56)","v":2322},{"$f":"SUM(H53:H56)","v":167}]
[]
[2017,"vor einjähriger Trennung",30,0,11,0,17,2]
[null,"nach einjähriger Trennung",3440,21,1344,22,1911,142]
[null,"nach dreijähriger Trennung",337,3,126,16,166,26]
[null,"aufgrund anderer Vorschriften",1,0,1,0,0,0]
[]
[null,"Insgesamt",{"$f":"SUM(C60:C63)","v":3808},24,1482,38,2094,170]

{"sheet":"Seite 8","index":8,"n_rows":49,"n_cols":9,"rows_kept":49,"cut":false,"hidden":true,"merged":[[29,0,31,0],[28,0,28,7],[5,0,7,0],[2,0,2,7],[5,1,5,8],[29,1,29,8],[31,1,31,8],[7,1,7,8]]}
[8]
[]
[{"$f":"CONCATENATE(#REF!, \" \",#REF!)","v":{"$error":"#REF!"}}]
["5.1 Geschiedene Ehen seit 1991 in Sachsen-Anhalt nach Altersgruppen der geschiedenen Männer"]
[]
["Alter\nvon … bis\nunter … Jahren","Geschiedene Männer"]
[null,1991,1995,2000,2005,2010,2015,2016,2017]
[null,"Anzahl"]
[]
["unter 20",0,0,0,0,0,0,0,0]
["20 bis unter 25",113,64,39,29,44,17,15,8]
["25 bis unter 30",368,649,385,276,228,171,181,127]
["30 bis unter 35",350,1028,1028,609,506,439,435,385]
["35 bis unter 40",264,844,1539,1021,671,605,602,514]
["40 bis unter 45",180,650,1260,1288,849,705,615,576]
["45 bis unter 50",118,265,830,970,917,768,788,763]
["50 bis unter 55",70,198,388,598,656,678,732,659]
["55 bis unter 60",30,102,195,225,372,405,430,431]
["60 bis unter 65",16,34,112,133,147,185,226,197]
["65 bis unter 70",5,20,29,55,68,88,93,92]
["70 bis unter 75",1,11,12,16,29,32,45,33]
["75 bis unter 80",3,2,4,2,11,14,19,19]
["80 und mehr",1,0,2,5,2,2,2,4]
[]
["Insgesamt",{"$f":"SUM(B10:B23)","v":1519},3867,5823,5227,4500,{"$f":"SUM(G10:G23)","v":4109},{"$f":"SUM(H10:H23)","v":4183},{"$f":"SUM(I10:I23)","v":3808}]
[]
[]
["5.2 Geschiedene Ehen seit 1991 in Sachsen-Anhalt nach Altersgruppen der geschiedenen Frauen"]
[]
["Alter\nvon … bis\nunter … Jahren","Geschiedene Frauen"]
[null,1991,1995,2000,2005,2010,2015,2016,2017]
[null,"Anzahl"]
[]
["unter 20",8,0,2,1,1,0,0,0]
["20 bis unter 25",259,203,132,120,125,55,51,35]
["25 bis unter 30",418,982,663,432,442,363,339,269]
["30 bis unter 35",313,1058,1302,719,578,622,595,483]
["35 bis unter 40",224,766,1591,1189,681,616,658,693]
["40 bis unter 45",141,471,1084,1302,917,642,674,540]
["45 bis unter 50",65,179,611,810,888,746,737,744]
["50 bis unter 55",53,106,232,412,479,589,594,532]
["55 bis unter 60",24,70,116,135,240,282,293,296]
["60 bis unter 65",6,15,59,68,87,137,157,138]
["65 bis unter 70",6,12,25,29,42,33,57,59]
["70 bis unter 75",0,4,3,6,18,18,13,13]
["75 bis unter 80",1,1,1,2,2,5,13,6]
["80 und mehr",1,0,2,2,0,1,2,0]
[]
["Insgesamt",{"$f":"SUM(B34:B47)","v":1519},3867,5823,5227,4500,4109,{"$f":"SUM(H34:H47)","v":4183},{"$f":"SUM(I35:I47)","v":3808}]

{"sheet":"Seite 9","index":9,"n_rows":49,"n_cols":9,"rows_kept":49,"cut":false,"hidden":true,"merged":[[2,0,2,8],[5,0,7,0],[29,0,31,0],[5,1,5,8],[28,0,28,7],[29,1,29,8],[31,1,31,8],[7,1,7,8]]}
[null,null,null,null,null,null,null,null,9]
[]
[{"$f":"CONCATENATE(#REF!, \" \",#REF!)","v":{"$error":"#REF!"}}]
["6.1 Anteil der Altersgruppen der Männer an der Gesamtzahl der geschiedenen Ehen "]
[]
["Alter\nvon … bis\nunter … Jahren","Geschiedene Männer"]
[null,1991,1995,2000,2005,2010,2015,2016,2017]
[null,"Anteil der Altersgruppen an den Geschiedenen insgesamt in Prozent"]
[]
["unter 20",0,0,0,0,0,0,0,0]
["20 bis unter 25",{"$f":"'Seite 8'!B11/1519*100","v":7.4391046741277149},1.7,0.7,0.6,1,{"$f":"'Seite 8'!G11/4109*100","v":0.41372596738865908},{"$f":"'Seite 8'!H11/4183*100","v":0.35859431030360989},{"$f":"'Seite 8'!I11/3808*100","v":0.21008403361344538}]
["25 bis unter 30",{"$f":"'Seite 8'!B12/1519*100","v":24.226464779460173},16.8,6.6,5.3,5.0999999999999996,{"$f":"'Seite 8'!G12/4109*100","v":4.1615964954976885},{"$f":"'Seite 8'!H12/4183*100","v":4.3270380109968922},{"$f":"'Seite 8'!I12/3808*100","v":3.3350840336134455}]
["30 bis unter 35",{"$f":"'Seite 8'!B13/1519*100","v":23.041474654377879},26.6,17.7,11.7,11.2,{"$f":"'Seite 8'!G13/4109*100","v":10.683864687271843},{"$f":"'Seite 8'!H13/4183*100","v":10.399234998804685},{"$f":"'Seite 8'!I13/3808*100","v":10.11029411764706}]
["35 bis unter 40",{"$f":"'Seite 8'!B14/1519*100","v":17.3798551678736},21.8,26.4,19.5,14.9,{"$f":"'Seite 8'!G14/4109*100","v":14.723777074714043},{"$f":"'Seite 8'!H14/4183*100","v":14.391584986851541},{"$f":"'Seite 8'!I14/3808*100","v":13.497899159663865}]
["40 bis unter 45",{"$f":"'Seite 8'!B15/1519*100","v":11.84990125082291},16.8,21.6,24.6,18.899999999999999,{"$f":"'Seite 8'!G15/4109*100","v":17.157459235823801},{"$f":"'Seite 8'!H15/4183*100","v":14.702366722448005},{"$f":"'Seite 8'!I15/3808*100","v":15.126050420168067}]
["45 bis unter 50",{"$f":"'Seite 8'!B16/1519*100","v":7.7682685977616845},6.8,14.3,18.600000000000001,20.399999999999999,{"$f":"'Seite 8'!G16/4109*100","v":18.690678997322948},{"$f":"'Seite 8'!H16/4183*100","v":18.838154434616307},{"$f":"'Seite 8'!I16/3808*100","v":20.036764705882355}]
["50 bis unter 55",{"$f":"'Seite 8'!B17/1519*100","v":4.6082949308755765},5.0999999999999996,6.7,11.4,14.6,{"$f":"'Seite 8'!G17/4109*100","v":16.500365052324167},{"$f":"'Seite 8'!H17/4183*100","v":17.499402342816161},{"$f":"'Seite 8'!I17/3808*100","v":17.305672268907564}]
["55 bis unter 60",{"$f":"'Seite 8'!B18/1519*100","v":1.9749835418038184},2.6,3.3,4.3,8.3000000000000007,{"$f":"'Seite 8'!G18/4109*100","v":9.8564127524945242},{"$f":"'Seite 8'!H18/4183*100","v":10.279703562036815},{"$f":"'Seite 8'!I18/3808*100","v":11.318277310924369}]
["60 bis unter 65",{"$f":"'Seite 8'!B19/1519*100","v":1.053324555628703},0.9,1.9,2.5,3.3,{"$f":"'Seite 8'!G19/4109*100","v":4.5023119980530542},{"$f":"'Seite 8'!H19/4183*100","v":5.4028209419077218},{"$f":"'Seite 8'!I19/3808*100","v":5.1733193277310923}]
["65 bis unter 70",{"$f":"'Seite 8'!B20/1519*100","v":0.32916392363396973},0.5,0.5,1.1000000000000001,1.5,{"$f":"'Seite 8'!G20/4109*100","v":2.1416403017765879},{"$f":"'Seite 8'!H20/4183*100","v":2.2232847238823812},{"$f":"'Seite 8'!I20/3808*100","v":2.4159663865546221}]
["70 bis unter 75",{"$f":"'Seite 8'!B21/1519*100","v":6.5832784726793936E-2},0.3,0.2,0.3,0.6,{"$f":"'Seite 8'!G21/4109*100","v":0.7787782915551229},{"$f":"'Seite 8'!H21/4183*100","v":1.0757829309108295},{"$f":"'Seite 8'!I21/3808*100","v":0.86659663865546221}]
["75 bis unter 80",{"$f":"'Seite 8'!B22/1519*100","v":0.19749835418038184},0.1,0.1,0,0.2,{"$f":"'Seite 8'!G22/4109*100","v":0.34071550255536626},{"$f":"'Seite 8'!H22/4183*100","v":0.45421945971790584},{"$f":"'Seite 8'!I22/3808*100","v":0.49894957983193272}]
["80 und mehr",{"$f":"'Seite 8'!B23/1519*100","v":6.5832784726793936E-2},0,0,0.1,0,0,0,{"$f":"'Seite 8'!I23/3808*100","v":0.10504201680672269}]
[]
["Insgesamt",{"$f":"SUM(B10:B23)","v":100.00000000000001},99.999999999999986,100,99.999999999999986,99.999999999999986,99.951326356777827,99.952187425292863,{"$f":"'Seite 8'!I25/3808*100","v":100}]
[]
[]
["6.2 Anteil der Altersgruppen der Frauen an der Gesamtzahl der geschiedenen Ehen"]
[]
["Alter\nvon … bis\nunter … Jahren","Geschiedene Frauen"]
[null,1991,1995,2000,2005,2010,2015,2016,2017]
[null,"Anteil der Altersgruppe an den Geschiedenen insgesamt in Prozent"]
[]
["unter 20",{"$f":"'Seite 8'!B34/1519*100","v":0.52666227781435149},0,0,0,0,0,0,0]
["20 bis unter 25",{"$f":"'Seite 8'!B35/1519*100","v":17.050691244239633},{"$f":"'Seite 8'!C35/3867*100","v":5.2495474528057926},{"$f":"'Seite 8'!D35/5823*100","v":2.2668727460072131},{"$f":"'Seite 8'!E35/5227*100","v":2.2957719533193037},{"$f":"'Seite 8'!F35/4500*100","v":2.7777777777777777},{"$f":"'Seite 8'!G35/4109*100","v":1.3385251886103675},{"$f":"'Seite 8'!H35/4183*100","v":1.2192206550322735},{"$f":"'Seite 8'!I35/3808*100","v":0.91911764705882359}]
["25 bis unter 30",{"$f":"'Seite 8'!B36/1519*100","v":27.518104015799867},{"$f":"'Seite 8'!C36/3867*100","v":25.39436255495216},{"$f":"'Seite 8'!D36/5823*100","v":11.385883565172591},{"$f":"'Seite 8'!E36/5227*100","v":8.2647790319494927},{"$f":"'Seite 8'!F36/4500*100","v":9.8222222222222229},{"$f":"'Seite 8'!G36/4109*100","v":8.8342662448284255},{"$f":"'Seite 8'!H36/4183*100","v":8.1042314128615836},{"$f":"'Seite 8'!I36/3808*100","v":7.0640756302521011}]
["30 bis unter 35",{"$f":"'Seite 8'!B37/1519*100","v":20.605661619486504},{"$f":"'Seite 8'!C37/3867*100","v":27.35971036979571},{"$f":"'Seite 8'!D37/5823*100","v":22.359608449252963},{"$f":"'Seite 8'!E37/5227*100","v":13.755500286971495},{"$f":"'Seite 8'!F37/4500*100","v":12.844444444444445},{"$f":"'Seite 8'!G37/4109*100","v":15.137503042102701},{"$f":"'Seite 8'!H37/4183*100","v":14.224240975376523},{"$f":"'Seite 8'!I37/3808*100","v":12.683823529411764}]
["35 bis unter 40",{"$f":"'Seite 8'!B38/1519*100","v":14.746543778801843},{"$f":"'Seite 8'!C38/3867*100","v":19.808637186449442},{"$f":"'Seite 8'!D38/5823*100","v":27.322685900738453},{"$f":"'Seite 8'!E38/5227*100","v":22.747273770805435},{"$f":"'Seite 8'!F38/4500*100","v":15.133333333333333},{"$f":"'Seite 8'!G38/4109*100","v":14.991482112436117},{"$f":"'Seite 8'!H38/4183*100","v":15.730337078651685},{"$f":"'Seite 8'!I38/3808*100","v":18.198529411764707}]
["40 bis unter 45",{"$f":"'Seite 8'!B39/1519*100","v":9.2824226464779453},{"$f":"'Seite 8'!C39/3867*100","v":12.179984484096199},{"$f":"'Seite 8'!D39/5823*100","v":18.615833762665293},{"$f":"'Seite 8'!E39/5227*100","v":24.909125693514444},{"$f":"'Seite 8'!F39/4500*100","v":20.377777777777776},{"$f":"'Seite 8'!G39/4109*100","v":15.624239474324654},{"$f":"'Seite 8'!H39/4183*100","v":16.112837676308871},{"$f":"'Seite 8'!I39/3808*100","v":14.180672268907562}]
["45 bis unter 50",{"$f":"'Seite 8'!B40/1519*100","v":4.2791310072416069},{"$f":"'Seite 8'!C40/3867*100","v":4.6289113007499356},{"$f":"'Seite 8'!D40/5823*100","v":10.492873089472781},{"$f":"'Seite 8'!E40/5227*100","v":15.496460684905299},{"$f":"'Seite 8'!F40/4500*100","v":19.733333333333334},{"$f":"'Seite 8'!G40/4109*100","v":18.155268921878804},{"$f":"'Seite 8'!H40/4183*100","v":17.61893377958403},{"$f":"'Seite 8'!I40/3808*100","v":19.537815126050422}]
["50 bis unter 55",{"$f":"'Seite 8'!B41/1519*100","v":3.489137590520079},{"$f":"'Seite 8'!C41/3867*100","v":2.7411430049133694},{"$f":"'Seite 8'!D41/5823*100","v":3.9842005838914645},{"$f":"'Seite 8'!E41/5227*100","v":7.8821503730629416},{"$f":"'Seite 8'!F41/4500*100","v":10.644444444444444},{"$f":"'Seite 8'!G41/4109*100","v":14.334387928936481},{"$f":"'Seite 8'!H41/4183*100","v":14.20033468802295},{"$f":"'Seite 8'!I41/3808*100","v":13.970588235294118}]
["55 bis unter 60",{"$f":"'Seite 8'!B42/1519*100","v":1.5799868334430547},{"$f":"'Seite 8'!C42/3867*100","v":1.8101887768295837},{"$f":"'Seite 8'!D42/5823*100","v":1.9921002919457322},{"$f":"'Seite 8'!E42/5227*100","v":2.5827434474842166},{"$f":"'Seite 8'!F42/4500*100","v":5.3333333333333339},{"$f":"'Seite 8'!G42/4109*100","v":6.8629836943295208},{"$f":"'Seite 8'!H42/4183*100","v":7.00454219459718},{"$f":"'Seite 8'!I42/3808*100","v":7.7731092436974789}]
["60 bis unter 65",{"$f":"'Seite 8'!B43/1519*100","v":0.39499670836076367},{"$f":"'Seite 8'!C43/3867*100","v":0.38789759503491078},{"$f":"'Seite 8'!D43/5823*100","v":1.0132234243517086},{"$f":"'Seite 8'!E43/5227*100","v":1.3009374402142722},{"$f":"'Seite 8'!F43/4500*100","v":1.9333333333333333},{"$f":"'Seite 8'!G43/4109*100","v":3.3341445607203699},{"$f":"'Seite 8'!H43/4183*100","v":3.753287114511116},{"$f":"'Seite 8'!I43/3808*100","v":3.6239495798319332}]
["65 bis unter 70",{"$f":"'Seite 8'!B44/1519*100","v":0.39499670836076367},{"$f":"'Seite 8'!C44/3867*100","v":0.3103180760279286},{"$f":"'Seite 8'!D44/5823*100","v":0.42933195947106301},{"$f":"'Seite 8'!E44/5227*100","v":0.55481155538549842},{"$f":"'Seite 8'!F44/4500*100","v":0.93333333333333346},{"$f":"'Seite 8'!G44/4109*100","v":0.80311511316622053},{"$f":"'Seite 8'!H44/4183*100","v":1.3626583791537175},{"$f":"'Seite 8'!I44/3808*100","v":1.5493697478991597}]
["70 bis unter 75",0,{"$f":"'Seite 8'!C45/3867*100","v":0.1034393586759762},{"$f":"'Seite 8'!D45/5823*100","v":5.1519835136527567E-2},{"$f":"'Seite 8'!E45/5227*100","v":0.11478859766596518},{"$f":"'Seite 8'!F45/4500*100","v":0.4},{"$f":"'Seite 8'!G45/4109*100","v":0.4380627889997567},{"$f":"'Seite 8'!H45/4183*100","v":0.31078173559646188},{"$f":"'Seite 8'!I45/3808*100","v":0.34138655462184875}]
["75 bis unter 80",{"$f":"'Seite 8'!B46/1519*100","v":6.5832784726793936E-2},0,0,0,0,{"$f":"'Seite 8'!G46/4109*100","v":0.12168410805548796},{"$f":"'Seite 8'!H46/4183*100","v":0.31078173559646188},{"$f":"'Seite 8'!I46/3808*100","v":0.15756302521008403}]
["80 und mehr",{"$f":"'Seite 8'!B47/1519*100","v":6.5832784726793936E-2},0,{"$f":"'Seite 8'!D47/3867*100","v":5.17196793379881E-2},0,0,0,0,0]
[]
["Insgesamt",{"$f":"SUM(B34:B47)","v":99.999999999999986},99.97414016033099,99.965853287443778,99.904342835278371,99.933333333333351,99.975663178388899,99.952187425292848,{"$f":"'Seite 8'!I49/3808*100","v":100}]

{"sheet":"3.","index":10,"n_rows":39,"n_cols":8,"rows_kept":39,"cut":false,"hidden":false,"merged":[[4,1,4,6],[4,7,5,7],[24,1,24,6],[24,7,25,7],[4,0,5,0],[24,0,25,0]]}
[]
["3. Ehescheidungen seit 2010 in Sachsen-Anhalt nach Monaten"]
[]
[]
["Jahr","Monat",null,null,null,null,null,"1. Halbjahr"]
[null,"Januar","Februar","März","April","Mai","Juni"]
[]
[2010,409,316,443,298,379,429,2274]
[2011,434,373,480,353,474,343,2457]
[2012,384,395,405,346,363,368,2261]
[2013,329,413,354,402,367,370,2235]
[2014,277,426,427,412,384,379,2305]
[2015,340,277,381,341,324,389,2052]
[2016,351,314,370,390,359,376,2160]
[2017,287,380,391,288,352,290,1988]
[2018,333,273,268,334,308,326,1842]
[2019,309,304,339,241,309,290,1792]
[2020,278,241,241,263,199,376,1598]
[2021,315,257,372,289,255,364,1852]
[]
[]
["Noch 3. Ehescheidungen seit 2010 in Sachsen-Anhalt nach Monaten"]
[]
[]
["Jahr","Monat",null,null,null,null,null,"Zusammen"]
[null,"Juli","August","September","Oktober","November","Dezember"]
[]
[2010,343,449,358,340,378,358,4500]
[2011,376,397,405,338,416,419,4808]
[2012,433,395,366,396,455,314,4620]
[2013,403,320,281,308,362,311,4220]
[2014,378,284,324,288,332,288,4199]
[2015,354,330,304,370,323,376,4109]
[2016,337,338,333,343,359,313,4183]
[2017,315,327,298,274,352,254,3808]
[2018,255,304,222,339,287,230,3479]
[2019,317,277,289,304,299,268,3546]
[2020,291,296,320,340,257,287,3389]
[2021,251,242,271,238,306,298,3458]

{"sheet":"4.","index":11,"n_rows":19,"n_cols":6,"rows_kept":19,"cut":false,"hidden":false,"merged":[[4,0,5,0],[4,1,5,1],[4,2,4,4],[4,5,5,5]]}
[]
["4. Ehescheidungen in Sachsen-Anhalt nach Art der Entscheidung in der Ehesache"]
[]
[]
["Jahr","Insgesamt","Entscheidungen in der Ehesache \nnach § 1565 Abs. 1 BGB",null,null,"Ehescheidungen aufgrund anderer Vorschriften"]
[null,null,"i.V.m.\n§ 1565 Abs. 2 BGB\nEhescheidungen vor einjähriger Trennung","Ehescheidungen nach \neinjähriger Trennung","i.V.m.\n§ 1566 Abs. 2 BGB\nEhescheidungen nach dreijähriger Trennung"]
[]
[2010,4500,".",3974,418,"."]
[2011,4808,".",4227,455,"."]
[2012,4620,84,4069,461,6]
[2013,4220,63,3716,441,"-"]
[2014,4199,37,3807,351,4]
[2015,4109,49,3669,359,32]
[2016,4183,31,3750,343,59]
[2017,3808,".",3440,337,"."]
[2018,3479,30,3180,269,"-"]
[2019,3546,44,3117,312,73]
[2020,3389,36,2970,296,87]
[2021,3458,31,2993,357,77]

{"sheet":"5.","index":12,"n_rows":32,"n_cols":10,"rows_kept":32,"cut":false,"hidden":false,"merged":[[4,2,4,9],[4,0,5,1],[31,0,31,9],[32,0,32,9]]}
[]
["5. Anzahl der Ehescheidungen nach der Ehedauer seit 1991 in Sachsen-Anhalt"]
[]
[]
["Ehedauer\nin\nJahren1",null,"Anzahl \nder\nEhescheidungen"]
[null,null,1991,1995,2000,2005,2010,2015,2020,2021]
[]
["unter 2",null,71,13,14,15,27,26,16,15]
[2,null,175,67,77,89,149,139,107,110]
[3,null,137,120,129,158,236,219,184,174]
[4,null,109,132,179,230,192,161,157,134]
[5,null,135,349,222,261,244,229,205,191]
[]
["unter 2 bis 5 zusammen",null,627,681,621,753,848,774,{"$f":"SUM(I8:I12)","v":669},{"$f":"SUM(J8:J12)","v":624}]
[]
[6,null,103,360,241,283,242,254,190,232]
[7,null,70,343,246,257,215,204,191,221]
[8,null,62,309,207,224,193,198,169,199]
[9,null,71,252,162,155,188,183,178,180]
[10,null,64,224,404,194,172,179,157,156]
[]
["6 bis 10 zusammen",null,370,1488,1260,1113,1010,1018,{"$f":"SUM(I16:I20)","v":885},{"$f":"SUM(J16:J20)","v":988}]
[]
["11 bis 15",null,226,759,1785,733,590,677,616,640]
["16 bis 20",null,155,510,1015,1201,519,452,390,418]
["21 bis 25",null,68,251,681,753,746,360,264,263]
["über 25",null,73,178,461,674,787,828,565,525]
[]
["Insgesamt",null,1519,3867,5823,5227,4500,4109,{"$f":"I14+I22+I24+I25+I26+I27","v":3389},{"$f":"J14+J22+J24+J25+J26+J27","v":3458}]
[]
[]
["1 berechnete Differenz zwischen dem Jahr der Rechtskraft und dem Jahr der Eheschließung"]

{"sheet":"Grafik","index":13,"n_rows":31,"n_cols":8,"rows_kept":31,"cut":false,"hidden":true,"merged":[[4,0,6,0],[4,1,4,7],[6,1,6,7]]}
[]
[]
[]
[]
["Ehedauer in Jahren","Ehescheidungen"]
[null,1991,1995,2000,2005,2010,2015,2016]
[null,"Anzahl"]
[]
["Unter 1",3,0,0,2,2,0,0]
[1,68,13,14,13,25,26,28]
[2,175,67,77,89,149,139,148]
[3,137,120,129,158,236,219,182]
[4,109,132,179,230,192,161,162]
[5,135,349,222,261,244,229,229]
[]
["Unter 1\nbis\n5 gesamt",{"$f":"SUM(B9:B15)","v":627},{"$f":"SUM(C9:C14)","v":681},{"$f":"SUM(D9:D14)","v":621},{"$f":"SUM(E9:E14)","v":753},{"$f":"SUM(F9:F14)","v":848},774,{"$f":"H9+H10+H11+H12+H13+H14","v":749}]
[]
[6,103,360,241,283,242,254,237]
[7,70,343,246,257,215,204,272]
[8,62,309,207,224,193,198,236]
[9,71,252,162,155,188,183,202]
[10,64,224,404,194,172,179,178]
[]
["6 bis 10 gesamt",{"$f":"SUM(B18:B22)","v":370},1488,1260,1113,1010,1018,{"$f":"H18+H19+H20+H21+H22","v":1125}]
[]
["11\nbis\n15",226,759,1785,733,590,677,654]
["16\nbis\n20",155,510,1015,1201,519,452,482]
["21\nbis\n25",68,251,681,753,746,360,300]
["über 25",73,178,461,674,787,828,873]
[]
["Insgesamt",{"$f":"SUM(B26:B29,B24,B16)","v":1519},3867,5823,5227,4500,4109,{"$f":"H16+H24+H26+H27+H28+H29","v":4183}]

{"sheet":"Grafik von Seite 13","index":14,"n_rows":57,"n_cols":8,"rows_kept":57,"cut":false,"hidden":true,"merged":[[2,0,2,1],[6,0,9,0],[6,1,8,7]]}
[]
[]
[]
[]
[]
[]
["Ehedauer in Jahren","Anteil der Ehescheidungen\nnach der Ehedauer an den Ehescheidungen insgesamt\nin %"]
[]
[]
[null,1991,1995,2000,2005,2010,2015,2016]
[]
["Unter 1",0.2,0,0,0,0,0," -"]
[1,4.5,0.4,0.3,0.3,0.6,0.6,0.7]
[2,11.5,1.7,1.3,1.7,3.3,3.4,3.5]
[3,9,3.1,2.2000000000000002,3,5.2,5.3,4.4000000000000004]
[4,7.2,3.4,3.1,4.4000000000000004,4.3,3.9,3.9]
[5,8.9,9,3.8,5,5.4,5.6,5.5]
[null,null,null,null,null,null,null,4183]
["         Unter 1 bis 5 gesamt",41.3,17.600000000000001,10.7,14.4,18.8,18.8,0.17899999999999999]
[]
[6,6.8,9.3000000000000007,4.0999999999999996,5.4,5.4,6.2,5.7]
[7,4.5999999999999996,8.9,4.2,4.9000000000000004,4.8,5,6.5]
[8,4.0999999999999996,8,3.6,4.3,4.3,4.8,5.6]
[9,4.7,6.5,2.8,3,4.2,4.5,4.8]
[10,4.2,5.8,6.9,3.7,3.8,4.4000000000000004,4.3]
[]
["        6 bis 10 gesamt",24.4,38.5,21.6,21.3,22.5,24.8,0.26900000000000002]
[]
["         11 bis 15",14.9,19.600000000000001,30.7,14,13.1,16.5,0.156]
["         16 bis 20",10.199999999999999,13.2,17.399999999999999,23,11.5,11,0.115]
["         21 bis 25",4.5,6.5,11.7,14.4,16.600000000000001,8.8000000000000007,7.1999999999999995E-2]
["        über 25",4.8,4.5999999999999996,7.9,12.9,17.5,20.2,0.20899999999999999]
["26 bis 35",null,null,null,null,null,null,0.157]
["36 bis 45",null,null,null,null,null,null,4.9000000000000002E-2]
["46 bis 55",null,null,null,null,null,null,7.0000000000000001E-3]
["56 bis 65",null,null,null,null,null,null,5.0000000000000001E-4]
[]
["26 bis 30",null,null,null,null,null,null,0.1]
["31 bis 35",null,null,null,null,null,null,5.5999999999999994E-2]
["36 bis 40",null,null,null,null,null,null,3.1E-2]
["41 bis 45",null,null,null,null,null,null,1.3999999999999999E-2]
["46 bis 50",null,null,null,null,null,null,5.0000000000000001E-3]
["über 50",null,null,null,null,null,null,2E-3]
[]
[]
[]
[]
[]
[]
[]
["Unter 1 bis 10",null,null,null,null,null,null,0.44800000000000001]
[]
["11 bis 20",null,null,null,null,null,null,0.27100000000000002]
["21 bis 30",null,null,null,null,null,null,0.17199999999999999]
["31 bis 40",null,null,null,null,null,null,8.6999999999999994E-2]
["41 bis 50",null,null,null,null,null,null,1.9E-2]
["über 50",null,null,null,null,null,null,2E-3]

{"sheet":"Seite 12","index":15,"n_rows":51,"n_cols":9,"rows_kept":51,"cut":false,"hidden":true,"merged":[[8,0,9,0],[2,0,2,8],[5,1,5,8],[5,0,6,0],[31,0,32,0],[11,0,12,0]]}
[12]
[]
[{"$f":"CONCATENATE(#REF!, \" \",#REF!)","v":{"$error":"#REF!"}}]
[]
[]
["Altersunterschied","Anzahl der Ehescheidungen"]
[null,1991,1995,2000,2005,2010,2015,2016,2017]
[]
["Mann und Frau gleich alt (weniger als ein Jahr)",336,840,1231,1105,874,829,788,696]
[]
[]
["Männer älter zusammen\n   davon um:",{"$f":"SUM(B15:B29)","v":1013},2543,3766,3298,2905,2632,{"$f":"SUM(H15:H29)","v":2728},2507]
[]
[]
["1      Jahr              ",226,494,788,618,519,463,470,415]
["2    Jahre",169,502,705,585,478,404,410,395]
["3    Jahre",161,387,573,488,395,362,403,344]
["4    Jahre",118,286,430,405,341,314,309,293]
["5    Jahre",77,253,335,293,260,208,228,252]
[]
["6    Jahre",79,165,228,200,182,174,198,175]
["7    Jahre",54,124,166,168,173,156,145,127]
["8    Jahre",38,75,101,130,134,125,125,101]
["9    Jahre",21,53,110,78,86,85,88,87]
["  10    Jahre",21,45,76,69,59,59,75,57]
[]
["    11 bis 15 Jahre",39,103,192,189,180,193,183,166]
[]
["  16 Jahre und mehr",10,56,62,75,98,89,94,{"$f":"67+28","v":95}]
[]
[]
["Frauen älter zusammen\n   davon um:",{"$f":"SUM(B35:B49)","v":170},484,{"$f":"SUM(D35:D49)","v":826},824,721,648,{"$f":"SUM(H35:H49)","v":667},605]
[]
[]
["1      Jahr              ",67,159,238,225,203,174,197,166]
["2    Jahre",27,94,167,130,111,115,122,121]
["3    Jahre",25,64,94,96,84,84,89,87]
["4    Jahre",17,35,72,69,72,75,67,53]
["5    Jahre",7,28,54,62,38,45,45,44]
[]
["6    Jahre",11,21,52,45,39,41,34,32]
["7    Jahre",3,27,32,37,35,28,19,26]
["8    Jahre",3,16,30,35,20,11,21,16]
["9    Jahre",4,6,19,13,13,13,9,13]
["  10   Jahre",3,3,13,12,23,12,13,11]
[]
["11 bis 15 Jahre",2,23,38,70,44,32,28,23]
[]
["16 Jahre und mehr",1,8,17,30,39,18,23,13]
[]
["  Insgesamt",{"$f":"SUM(B35:B49,B15:B29,B9)","v":1519},3867,5823,5227,4500,{"$f":"SUM(G35:G49,G15:G29,G9)","v":4109},{"$f":"SUM(H35:H49,H15:H29,H9)","v":4183},{"$f":"I32+I12+I9","v":3808}]

{"sheet":"Seite 13","index":16,"n_rows":50,"n_cols":11,"rows_kept":50,"cut":false,"hidden":true,"merged":[[18,0,18,2],[20,0,20,2],[21,0,21,2],[22,0,22,2],[23,0,23,2],[24,0,24,2],[33,0,33,2],[30,0,31,2],[28,0,28,2],[26,0,26,2],[2,1,3,10],[5,0,6,2],[11,0,12,2],[8,0,9,2],[14,0,14,2],[49,0,49,2],[34,0,34,2],[35,0,35,2],[5,3,5,10],[36,0,36,2],[37,0,37,2],[39,0,39,2],[40,0,40,2],[41,0,41,2],[45,1,45,2],[42,0,42,2],[43,0,43,2],[15,0,15,2],[16,0,16,2],[17,0,17,2],[47,0,47,2]]}
[null,null,null,null,null,null,null,null,null,null,13]
[]
["10. ",{"$f":"#REF!","v":{"$error":"#REF!"}}]
[]
[]
["Altersunterschied",null,null,"Anteil der Ehescheidungen\nnach dem Altersunterschied der Ehegatten \nan den Ehescheidungen insgesamt in %"]
[null,null,null,1991,1995,2000,2005,2010,2015,2016,2017]
[]
["Mann und Frau gleich alt (weniger als ein Jahr)",null,null,22.1,21.7,21.1,21.2,19.399999999999999,20.2,{"$f":"ROUND('Seite 12'!H9/'Seite 12'!$H$51*100,1)","v":18.8},{"$f":"ROUND('Seite 12'!I9/'Seite 12'!$I$51*100,1)","v":18.3}]
[]
[]
["Männer älter zusammen\n   davon um:",null,null,{"$f":"SUM(D15:D29)","v":66.699999999999989},65.8,64.699999999999989,62.999999999999993,64.499999999999986,64.099999999999994,{"$f":"ROUND('Seite 12'!H12/'Seite 12'!$H$51*100,1)","v":65.2},{"$f":"ROUND('Seite 12'!I12/'Seite 12'!$I$51*100,1)","v":65.8}]
[]
[]
["1     Jahr              ",null,null,14.9,12.8,13.5,11.8,11.5,11.3,{"$f":"ROUND('Seite 12'!H15/'Seite 12'!$H$51*100,1)","v":11.2},{"$f":"ROUND('Seite 12'!I15/'Seite 12'!$I$51*100,1)","v":10.9}]
["2    Jahre",null,null,11.1,13,12.1,11.2,10.6,9.8000000000000007,{"$f":"ROUND('Seite 12'!H16/'Seite 12'!$H$51*100,1)","v":9.8000000000000007},{"$f":"ROUND('Seite 12'!I16/'Seite 12'!$I$51*100,1)","v":10.4}]
["3    Jahre",null,null,10.6,10,9.8000000000000007,9.3000000000000007,8.8000000000000007,8.8000000000000007,{"$f":"ROUND('Seite 12'!H17/'Seite 12'!$H$51*100,1)","v":9.6},{"$f":"ROUND('Seite 12'!I17/'Seite 12'!$I$51*100,1)","v":9}]
["4    Jahre",null,null,7.8,7.4,7.4,7.8,7.6,7.6,{"$f":"ROUND('Seite 12'!H18/'Seite 12'!$H$51*100,1)","v":7.4},{"$f":"ROUND('Seite 12'!I18/'Seite 12'!$I$51*100,1)","v":7.7}]
["5    Jahre",null,null,5.0999999999999996,6.5,5.8,5.6,5.8,5.0999999999999996,{"$f":"ROUND('Seite 12'!H19/'Seite 12'!$H$51*100,1)","v":5.5},{"$f":"ROUND('Seite 12'!I19/'Seite 12'!$I$51*100,1)","v":6.6}]
[]
["6    Jahre",null,null,5.2,4.3,3.9,3.8,4,4.2,{"$f":"ROUND('Seite 12'!H21/'Seite 12'!$H$51*100,1)","v":4.7},{"$f":"ROUND('Seite 12'!I21/'Seite 12'!$I$51*100,1)","v":4.5999999999999996}]
["7    Jahre",null,null,3.5,3.2,2.9,3.2,3.8,3.8,{"$f":"ROUND('Seite 12'!H22/'Seite 12'!$H$51*100,1)","v":3.5},{"$f":"ROUND('Seite 12'!I22/'Seite 12'!$I$51*100,1)","v":3.3}]
["8    Jahre",null,null,2.5,1.9,1.7,2.5,3,3,{"$f":"ROUND('Seite 12'!H23/'Seite 12'!$H$51*100,1)","v":3},{"$f":"ROUND('Seite 12'!I23/'Seite 12'!$I$51*100,1)","v":2.7}]
["9    Jahre",null,null,1.4,1.4,1.9,1.5,1.9,2.1,{"$f":"ROUND('Seite 12'!H24/'Seite 12'!$H$51*100,1)","v":2.1},{"$f":"ROUND('Seite 12'!I24/'Seite 12'!$I$51*100,1)","v":2.2999999999999998}]
["  10   Jahre",null,null,1.4,1.2,1.3,1.3,1.3,1.4,{"$f":"ROUND('Seite 12'!H25/'Seite 12'!$H$51*100,1)","v":1.8},{"$f":"ROUND('Seite 12'!I25/'Seite 12'!$I$51*100,1)","v":1.5}]
[]
["  11 bis 15 Jahre",null,null,2.6,2.7,3.3,3.6,4,4.7,{"$f":"ROUND('Seite 12'!H27/'Seite 12'!$H$51*100,1)","v":4.4000000000000004},{"$f":"ROUND('Seite 12'!I27/'Seite 12'!$I$51*100,1)","v":4.4000000000000004}]
[]
["  16 Jahre und mehr",null,null,0.6,1.4,1.1000000000000001,1.4,2.2000000000000002,2.2000000000000002,{"$f":"ROUND('Seite 12'!H29/'Seite 12'!$H$51*100,1)","v":2.2000000000000002},{"$f":"ROUND('Seite 12'!I29/'Seite 12'!$I$51*100,1)","v":2.5}]
[]
["Frauen älter zusammen\n   davon um:",null,null,{"$f":"SUM(D34:D48)","v":11.199999999999998},{"$f":"SUM(E34:E48)","v":12.499999999999996},{"$f":"SUM(F34:F48)","v":14.2},{"$f":"SUM(G34:G48)","v":15.799999999999999},{"$f":"SUM(H34:H48)","v":16.100000000000001},15.8,{"$f":"ROUND('Seite 12'!H32/'Seite 12'!$H$51*100,1)","v":15.9},{"$f":"ROUND('Seite 12'!I32/'Seite 12'!$I$51*100,1)","v":15.9}]
[]
[]
["1     Jahr              ",null,null,4.4000000000000004,4.0999999999999996,4.0999999999999996,4.3,4.5,4.2,{"$f":"ROUND('Seite 12'!H35/'Seite 12'!$H$51*100,1)","v":4.7},{"$f":"ROUND('Seite 12'!I35/'Seite 12'!$I$51*100,1)","v":4.4000000000000004}]
["2    Jahre",null,null,1.8,2.4,2.9,2.5,2.5,2.8,{"$f":"ROUND('Seite 12'!H36/'Seite 12'!$H$51*100,1)","v":2.9},{"$f":"ROUND('Seite 12'!I36/'Seite 12'!$I$51*100,1)","v":3.2}]
["3    Jahre",null,null,1.6,1.7,1.6,1.8,1.9,2,{"$f":"ROUND('Seite 12'!H37/'Seite 12'!$H$51*100,1)","v":2.1},{"$f":"ROUND('Seite 12'!I37/'Seite 12'!$I$51*100,1)","v":2.2999999999999998}]
["4    Jahre",null,null,1.1000000000000001,0.9,1.2,1.3,1.6,1.8,{"$f":"ROUND('Seite 12'!H38/'Seite 12'!$H$51*100,1)","v":1.6},{"$f":"ROUND('Seite 12'!I38/'Seite 12'!$I$51*100,1)","v":1.4}]
["5    Jahre",null,null,0.5,0.7,0.9,1.2,0.8,1.1000000000000001,{"$f":"ROUND('Seite 12'!H39/'Seite 12'!$H$51*100,1)","v":1.1000000000000001},{"$f":"ROUND('Seite 12'!I39/'Seite 12'!$I$51*100,1)","v":1.2}]
[]
["6    Jahre",null,null,0.7,0.5,0.9,0.9,0.9,1,{"$f":"ROUND('Seite 12'!H41/'Seite 12'!$H$51*100,1)","v":0.8},{"$f":"ROUND('Seite 12'!I41/'Seite 12'!$I$51*100,1)","v":0.8}]
["7    Jahre",null,null,0.2,0.7,0.6,0.7,0.8,0.7,{"$f":"ROUND('Seite 12'!H42/'Seite 12'!$H$51*100,1)","v":0.5},{"$f":"ROUND('Seite 12'!I42/'Seite 12'!$I$51*100,1)","v":0.7}]
["8    Jahre",null,null,0.2,0.4,0.5,0.7,0.4,0.3,{"$f":"ROUND('Seite 12'!H43/'Seite 12'!$H$51*100,1)","v":0.5},{"$f":"ROUND('Seite 12'!I43/'Seite 12'!$I$51*100,1)","v":0.4}]
["9    Jahre",null,null,0.3,0.2,0.3,0.3,0.3,0.3,{"$f":"ROUND('Seite 12'!H44/'Seite 12'!$H$51*100,1)","v":0.2},{"$f":"ROUND('Seite 12'!I44/'Seite 12'!$I$51*100,1)","v":0.3}]
[" 10    Jahre",null,null,0.2,0.1,0.2,0.2,0.5,0.3,{"$f":"ROUND('Seite 12'!H45/'Seite 12'!$H$51*100,1)","v":0.3},{"$f":"ROUND('Seite 12'!I45/'Seite 12'!$I$51*100,1)","v":0.3}]
[]
[null,"11 bis 15 Jahre",null,0.1,0.6,0.7,1.3,1,0.8,{"$f":"ROUND('Seite 12'!H47/'Seite 12'!$H$51*100,1)","v":0.7},{"$f":"ROUND('Seite 12'!I47/'Seite 12'!$I$51*100,1)","v":0.6}]
[]
["16 Jahre und mehr",null,null,0.1,0.2,0.3,0.6,0.9,0.4,{"$f":"ROUND('Seite 12'!H49/'Seite 12'!$H$51*100,1)","v":0.5},{"$f":"ROUND('Seite 12'!I49/'Seite 12'!$I$51*100,1)","v":0.3}]
[]
["Insgesamt",null,null,{"$f":"SUM(D34:D48,D15:D29,D9)","v":100},{"$f":"SUM(E34:E48,E15:E29,E9)","v":100.00000000000003},{"$f":"SUM(F34:F48,F15:F29,F9)","v":100},{"$f":"SUM(G34:G48,G15:G29,G9)","v":100},{"$f":"SUM(H34:H48,H15:H29,H9)","v":100},100,100,100]

{"sheet":"6.","index":17,"n_rows":32,"n_cols":10,"rows_kept":32,"cut":false,"hidden":false,"merged":[[4,2,4,9],[4,0,5,1],[31,0,31,9]]}
[]
["6. Anteil der Ehescheidungen nach der Ehedauer an den Ehescheidungen insgesamt seit 1991"]
["5. in Sachsen-Anhalt"]
[]
["Ehedauer\nin\nJahren1",null,"Anteil der Ehescheidungen\nnach der Ehedauer an den Ehescheidungen insgesamt\nin Prozent"]
[null,null,1991,1995,2000,2005,2010,2015,2020,2021]
[]
["unter 2",null,4.7,0.4,0.3,0.3,0.6,0.6,0.5,0.4]
[2,null,11.5,1.7,1.3,1.7,3.3,3.4,3.2,3.2]
[3,null,9,3.1,2.2000000000000002,3,5.2,5.3,5.4,5]
[4,null,7.2,3.4,3.1,4.4000000000000004,4.3,3.9,4.5999999999999996,3.9]
[5,null,8.9,9,3.8,5,5.4,5.6,6,5.5]
[]
["unter 2 bis 5 zusammen",null,41.3,17.600000000000001,10.7,14.4,18.8,18.8,{"$f":"SUM(I8:I12)","v":19.700000000000003},{"$f":"SUM(J8:J12)","v":18}]
[]
[6,null,6.8,9.3000000000000007,4.0999999999999996,5.4,5.4,6.2,5.6,6.7]
[7,null,4.5999999999999996,8.9,4.2,4.9000000000000004,4.8,5,5.6,6.4]
[8,null,4.0999999999999996,8,3.6,4.3,4.3,4.8,5,5.8]
[9,null,4.7,6.5,2.8,3,4.2,4.5,5.3,5.2]
[10,null,4.2,5.8,6.9,3.7,3.8,4.4000000000000004,4.5999999999999996,4.5]
[]
["6 bis 10 zusammen",null,24.4,38.5,21.6,21.3,22.5,24.8,{"$f":"SUM(I16:I20)","v":26.1},{"$f":"SUM(J16:J20)","v":28.6}]
[]
["11 bis 15",null,14.9,19.600000000000001,30.7,14,13.1,16.5,18.2,18.5]
["16 bis 20",null,10.199999999999999,13.2,17.399999999999999,23,11.5,11,11.5,12.1]
["21 bis 25",null,4.5,6.5,11.7,14.4,16.600000000000001,8.8000000000000007,7.8,7.6]
["über 25",null,4.8,4.5999999999999996,7.9,12.9,17.5,20.2,16.7,15.2]
[]
["Insgesamt",null,{"$f":"C24+C25+C26+C27+C22+C14","v":100.1},100,100.00000000000001,100,100,100.1,{"$f":"I24+I25+I26+I27+I22+I14","v":100.00000000000001},100]
[]
[]
["1 berechnete Differenz zwischen dem Jahr der Rechtskraft und dem Jahr der Eheschließung"]

{"sheet":"7.","index":18,"n_rows":43,"n_cols":7,"rows_kept":43,"cut":false,"hidden":false,"merged":[[1,0,1,5],[4,0,5,0],[4,1,4,6]]}
[]
["7. Ehescheidungen seit 2016 in Sachsen-Anhalt nach dem Eheschließungsjahr"]
[]
[]
["Eheschließungsjahr","Ehescheidungen"]
[null,2016,2017,2018,2019,2020,2021]
[]
["1994 und früher",1107,899,693,699,565,478]
[]
[1995,66,70,50,51,49,47]
[1996,75,79,55,50,54,46]
[1997,86,74,56,44,36,40]
[1998,108,71,57,72,56,57]
[1999,101,79,85,62,69,55]
[]
[2000,112,93,83,82,84,65]
[2001,100,94,77,71,58,54]
[2002,109,113,85,91,79,69]
[2003,109,104,108,99,68,89]
[2004,158,160,119,120,101,102]
[]
[2005,178,163,138,108,117,104]
[2006,178,159,146,131,102,103]
[2007,202,178,159,142,133,119]
[2008,236,194,180,135,140,120]
[2009,272,181,173,166,124,157]
[]
[2010,237,203,185,190,157,141]
[2011,229,227,198,181,178,156]
[2012,162,215,197,187,169,180]
[2013,182,142,182,205,191,199]
[2014,148,169,128,196,190,221]
[]
[2015,28,126,163,144,205,232]
[2016,"-",15,138,180,157,191]
[2017,"x","-",24,119,184,134]
[2018,"x","x","-",21,107,174]
[2019,"x","x","x","-",16,110]
[]
[2020,"x","x","x","x","-",15]
[2021,"x","x","x","x","x","-"]
[]
["Insgesamt",4183,3808,3479,3546,3389,3458]

{"sheet":"8.","index":19,"n_rows":14,"n_cols":9,"rows_kept":14,"cut":false,"hidden":false,"merged":[[13,0,13,8],[1,0,1,8],[4,0,6,0],[2,0,2,8],[4,1,6,1],[12,0,12,8],[4,2,4,8],[5,2,5,4],[5,6,5,8],[5,5,6,5]]}
[]
["8. Ehescheidungen in Sachsen-Anhalt nach dem Altersunterschied der Ehegatten"]
[]
[]
["Jahr","Ins-\ngesamt","Ehescheidungen nach dem Altersunterschied der Ehegatten"]
[null,null,"Ehegatte 11 \num … Jahre älter",null,null,"Ehegatten gleich alt (weniger als 1 Jahr)","Ehegatte 22\num … Jahre älter"]
[null,null,"1-5","6-10","11 und \nmehr",null,"1-5","6-10","11 und \nmehr"]
[]
[2020,3389,1491,540,231,596,418,78,35]
[2021,3458,1525,567,206,618,422,82,38]
[]
[]
["1 Mann aus gemischtgeschlechtlicher Ehe sowie der jeweils ältere Mann aus gleichgeschlechtlicher Ehe"]
["2 Frau aus gemischtgeschlechtlicher Ehe sowie die jeweils ältere Frau aus gleichgeschlechtlicher Ehe"]

{"sheet":"9.","index":20,"n_rows":19,"n_cols":5,"rows_kept":19,"cut":false,"hidden":false,"merged":[[18,0,18,4],[4,2,4,4],[4,0,7,0],[4,1,7,1],[5,2,7,2],[5,3,5,4],[6,3,7,3],[6,4,7,4]]}
[]
["9. Ehescheidungen seit 2015 in Sachsen-Anhalt nach Staatsangehörigkeit der Ehegatten"]
[]
[]
["Jahr","Insgesamt","Ehescheidungen"]
[null,null,"beide \nEhegatten\ndeutsch","mindestens ein Ehegatte mit ausländischer Staatsangehörigkeit1"]
[null,null,null,"zusammen","darunter \nbeide \nEhegatten\nausländisch"]
[]
[]
[2015,4109,3944,165,19]
[2016,4183,4038,145,24]
[2017,3808,3644,164,37]
[2018,3479,3323,156,40]
[2019,3546,3385,161,42]
[2020,3389,3239,150,44]
[2021,3458,3298,160,56]
[]
[]
["1 einschließlich staatenlos und unbekannter Staatsangehörigkeit"]

{"sheet":"10.","index":21,"n_rows":31,"n_cols":7,"rows_kept":31,"cut":false,"hidden":false,"merged":[[4,6,7,6],[5,3,5,5],[11,0,11,1],[12,0,12,1],[20,0,20,1],[5,2,7,2],[4,2,4,5],[21,0,21,1],[22,0,22,1],[6,5,7,5],[4,0,7,1],[9,0,9,1],[10,0,10,1],[26,0,26,1],[33,2,33,6],[1,0,1,6],[2,0,2,6],[28,0,28,1],[14,0,14,1],[15,0,15,1],[16,0,16,1],[17,0,17,1],[18,0,18,1],[27,0,27,1],[23,0,23,1],[30,0,30,6],[6,3,7,3],[6,4,7,4],[24,0,24,1]]}
[]
["10. Ehescheidungen seit 1991 in Sachsen-Anhalt nach der Anzahl der gemeinschaftlichen minderjährigen"]
["10. Kinder "]
[]
["Jahr",null,"Ehescheidungen",null,null,null,"Gesamtzahl der gemeinschaftlichen minderjährigen Kinder"]
[null,null,"insgesamt","nach der Anzahl der gemeinschaftlichen minderjährigen Kinder1 dieser Ehen"]
[null,null,null,0,1,"2 und mehr"]
[]
[]
[1991,null,"1 519",566,593,360,1386]
[1995,null,3867,1130,1651,1086,4074]
[2000,null,5823,2308,2255,1260,5065]
[2005,null,5227,2815,1638,774,3367]
[]
[2010,null,4500,2565,1221,714,2868]
[2011,null,4808,2559,1390,859,3329]
[2012,null,4620,2454,1304,862,3291]
[2013,null,4220,2178,1228,814,3096]
[2014,null,4199,2101,1206,892,3235]
[]
[2015,null,4109,2058,1213,838,3099]
[2016,null,4183,2097,1213,873,3215]
[2017,null,3808,1882,1139,787,2917]
[2018,null,3479,1635,1024,820,2922]
[2019,null,3546,1666,1095,785,2883]
[]
[2020,null,3389,1562,1081,746,2776]
[2021,null,3458,1522,1082,854,3014]
[]
[]
["1 einschließlich der legitimierten Kinder"]

{"sheet":"11.","index":22,"n_rows":29,"n_cols":6,"rows_kept":29,"cut":false,"hidden":false,"merged":[[28,0,28,5],[6,4,7,4],[4,0,7,0],[6,2,7,2],[6,3,7,3],[4,5,7,5],[5,2,5,4],[4,1,4,4],[5,1,7,1]]}
[]
["11. Ehescheidungen in Sachsen-Anhalt nach kreisfreien Städten und Landkreisen sowie nach der Anzahl"]
["10. der gemeinschaftlichen minderjährigen Kinder"]
[]
["Kreisfreie Stadt\nLandkreis\nLand","Ehescheidungen",null,null,null,"Gesamtzahl der gemeinschaftlichen minderjährigen Kinder"]
[null,"insgesamt","nach der Anzahl der gemeinschaftlichen minderjährigen Kinder1 dieser Ehen"]
[null,null,0,1,"2 und mehr"]
[]
[]
["Dessau-Roßlau, Stadt",128,57,43,28,104]
["Halle (Saale), Stadt",466,217,137,112,403]
["Magdeburg, Landeshauptstadt",338,156,92,90,297]
[]
["Altmarkkreis Salzwedel",113,47,30,36,107]
["Anhalt-Bitterfeld",231,113,72,46,178]
["Börde",328,122,115,91,314]
["Burgenlandkreis",266,117,87,62,227]
["Harz",377,167,108,102,341]
["Jerichower Land",151,64,44,43,140]
["Mansfeld-Südharz",216,71,92,53,210]
["Saalekreis",173,72,55,46,160]
["Salzlandkreis",325,150,108,67,258]
["Stendal",186,94,48,44,150]
["Wittenberg",160,75,51,34,125]
[]
["Sachsen-Anhalt",3458,1522,1082,854,3014]
[]
[]
["1 einschließlich der legitimierten Kinder"]

{"sheet":"Seite 16","index":23,"n_rows":40,"n_cols":2,"rows_kept":40,"cut":false,"hidden":true,"merged":[[2,0,2,1],[5,0,7,0],[6,1,7,1]]}
[16]
[]
[{"$f":" CONCATENATE(#REF!, \" \",#REF!)","v":{"$error":"#REF!"}}]
[]
[]
["Eheschließungsjahr","Ehescheidungen"]
[null,2017]
[]
[]
[2017,0]
[2016,15]
[2015,126]
[]
[2014,169]
[2013,142]
[2012,215]
[2011,227]
[2010,203]
[]
[2009,181]
[2008,194]
[2007,178]
[2006,159]
[2005,163]
[]
[2004,160]
[2003,104]
[2002,113]
[2001,94]
[2000,93]
[]
[1999,79]
[1998,71]
[1997,74]
[1996,79]
[1995,70]
[]
["1994 und früher",899]
[]
["Insgesamt",{"$f":"SUM(B11:B39)","v":3808}]

{"sheet":"Seite 20","index":24,"n_rows":55,"n_cols":7,"rows_kept":55,"cut":false,"hidden":true,"merged":[[44,0,45,6],[48,1,48,2],[48,3,48,4],[48,5,48,6],[49,1,49,6],[47,1,47,6],[47,0,49,0],[33,0,35,0],[30,0,31,6],[34,1,34,2],[34,3,34,4],[34,5,34,6],[33,1,33,6],[35,1,35,6],[20,5,20,6],[19,1,19,6],[21,1,21,6],[16,0,17,6],[19,0,21,0],[20,1,20,2],[20,3,20,4],[2,0,3,6],[7,1,7,6],[5,0,7,0],[6,5,6,6],[6,3,6,4],[6,1,6,2],[5,1,5,6]]}
[20]
[null,null,null,null,null,null,{"$f":"HYPERLINK(\"#\"&\"Inhaltsverzeichnis!a1\",\"zum Inhalt\")","v":"zum Inhalt"}]
["14 Aufgehobene Lebenspartnerschaften seit 2014 in Sachsen-Anhalt nach deren Anzahl"]
[]
[]
["Jahr","Aufhebungen der Lebenspartnerschaften"]
[null,"Insgesamt",null,"männlich",null,"weiblich"]
[null,"Anzahl"]
[]
[2014,null,22,null,9,null,13]
[2015,null,11,null,5,null,6]
[2016,null,26,null,16,null,10]
[2017,null,24,null,10,null,14]
[]
[]
[]
["15 Aufgehobene Lebenspartnerschaften seit 2014 in Sachsen-Anhalt nach der durchschnittlichen\n     Dauer der Lebenspartnerschaft"]
[]
[]
["Jahr","Aufhebungen der Lebenspartnerschaften"]
[null,"Insgesamt",null,"männlich",null,"weiblich"]
[null,"durchschnittliche Dauer der Lebenspartnerschaft in Jahren"]
[]
[2014,null,5.7,null,6.5,null,5.0999999999999996]
[2015,null,6.4,null,8.5,null,4.5]
[2016,null,5.9,null,6.8,null,4.3]
[2017,null,7.1,null,8.1,null,6.4]
[]
[]
[]
["16 Aufgehobene Lebenspartnerschaften seit 2014 in Sachsen-Anhalt nach \n     dem durchschnittlichen Altersunterschied der Partner"]
[]
[]
["Jahr","Aufhebungen der Lebenspartnerschaften"]
[null,"Insgesamt",null,"männlich",null,"weiblich"]
[null,"durchschnittlicher Altersunterschied der Partner"]
[]
[2014,null,7.2,null,11.2,null,4.4000000000000004]
[2015,null,10.3,null,9.8000000000000007,null,10.7]
[2016,null,7.6,null,10.3,null,3.2]
[2017,null,7.5,null,12.2,null,4.0999999999999996]
[]
[]
[]
["17 Aufgehobene Lebenspartnerschaften seit 2014 in Sachsen-Anhalt nach dem Geschlecht \n     der Beteiligten\n  "]
[]
[]
["Jahr","Aufhebungen der Lebenspartnerschaften"]
[null,"insgesamt",null,"männlich",null,"weiblich"]
[null,"Beteiligte"]
[]
[2014,null,44,null,18,null,26]
[2015,null,22,null,10,null,12]
[2016,null,52,null,32,null,20]
[2017,null,48,null,20,null,28]

{"sheet":"entfällt Datenschutz","index":25,"n_rows":33,"n_cols":25,"rows_kept":33,"cut":false,"hidden":true,"merged":[[1,10,1,11],[1,23,1,24],[4,24,5,24],[4,0,5,0],[5,12,7,12],[5,13,7,13],[5,14,7,14],[5,15,7,15],[5,16,7,16],[5,17,7,17],[5,18,7,18],[5,19,7,19],[5,20,7,20],[5,21,7,21],[5,22,7,22],[5,23,7,23],[5,11,7,11],[5,10,7,10],[4,1,7,1],[5,7,7,7],[5,3,7,3],[5,4,7,4],[5,5,7,5],[5,2,7,2],[5,8,7,8],[5,9,7,9],[5,6,7,6]]}
[16,null,null,null,null,null,null,null,null,null,null,null,null,null,null,null,null,null,null,null,null,null,null,null,17]
[null,null,null,null,null,null,null,null,null,null,{"$f":"HYPERLINK(\"#\"&\"Inhaltsverzeichnis!a1\",\"zum Inhalt\")","v":"zum Inhalt"},null,null,null,null,null,null,null,null,null,null,null,null,{"$f":"HYPERLINK(\"#\"&\"Inhaltsverzeichnis!a1\",\"zum Inhalt\")","v":"zum Inhalt"}]
["11 Ehescheidungen 2017 in Sachsen-Anhalt nach der Staatsangehörigkeit der Ehegatten",null,null,null,null,null,null,null,null,null,null,null,"Noch 11 Ehescheidungen 2017 in Sachsen-Anhalt nach der Staatsangehörigkeit der Ehegatten"]
[]
["Lfd. Nr.","Staats-\nangehörigkeit\ndes\nEhemannes","Staatsangehörigkeit der Ehefrau",null,null,null,null,null,null,null,null,null,"Staatsangehörigkeit der Ehefrau",null,null,null,null,null,null,null,null,null,null,null,"LfdNr."]
[null,null,"Ins-\nge-\nsamt","deutsch","ame-\nrika-\nnisch  ","bosn.\nherze-\ngowi-\nnisch","bri-\ntisch","fran-\nzö-\nsisch","grie-chisch","italie-nisch","kroa-tisch","monte-negri-nisch","nie-\nder-\nlän-disch","öster-\nrei-\nchisch","pol-\nnisch","ru-\nmä-nisch","rus-\nsisch","ser-\nbisch","spa-\nnisch","thai-\nlän-disch","tür-\nkisch","ukrai-nisch","vietna-me-\nsisch","sonstige (einschl. staaten-los/un-bekannt)"]
[]
[]
[]
[1,"Insgesamt",3808,3723,0,0,0,0,3,1,1,{"$f":"SUM(L11:L31)+L33","v":0},1,null,2,4,9,null,null,2,1,10,15,36,1]
[2,"deutsch",3692,3644,0,0,0,0,0,1,1,0,1,0,2,3,5,0,0,2,0,6,4,23,2]
[3,"amerikanisch",1,1,0,0,0,0,0,0,0,0,0,0,0,0,0,0,0,0,0,0,0,0,3]
[4,"bosnisch-"]
[null,"herzegowinisch",0,0,0,0,0,0,0,0,0,0,0,0,0,0,0,0,0,0,0,0,0,0,4]
[5,"britisch",1,1,0,0,0,0,0,0,0,0,0,0,0,0,0,0,0,0,0,0,0,0,5]
[6,"französisch",0,0,0,0,0,0,0,0,0,0,0,0,0,0,0,0,0,0,0,0,0,0,6]
[7,"griechisch",3,1,0,0,0,0,2,0,0,0,0,0,0,0,0,0,0,0,0,0,0,1,7]
[8,"italienisch",1,1,0,0,0,0,0,0,0,0,0,0,0,0,0,0,0,0,0,0,0,0,8]
[9,"kroatisch",1,1,0,0,0,0,0,0,0,0,0,0,0,0,0,0,0,0,0,0,0,0,9]
[10,"montenegrinisch",0,0,0,0,0,0,0,0,0,0,0,0,0,0,0,0,0,0,0,0,0,0,10]
[11,"niederländisch",0,0,0,0,0,0,0,0,0,0,0,0,0,0,0,0,0,0,0,0,0,0,11]
[12,"österreichisch",0,0,0,0,0,0,0,0,0,0,0,0,0,0,0,0,0,0,0,0,0,0,12]
[13,"polnisch",1,1,0,0,0,0,0,0,0,0,0,0,0,0,0,0,0,0,0,0,0,0,13]
[14,"rumänisch",2,2,0,0,0,0,0,0,0,0,0,0,0,0,0,0,0,0,0,0,0,0,14]
[15,"russisch",7,3,0,0,0,0,0,0,0,0,0,0,0,0,0,0,0,0,0,1,0,0,15]
[16,"serbisch",2,2,0,0,0,0,0,0,0,0,0,0,0,0,0,0,0,0,0,0,0,0,16]
[17,"spanisch",0,0,0,0,0,0,0,0,0,0,0,0,0,0,0,0,1,0,0,0,0,0,17]
[18,"thailändisch",0,0,0,0,0,0,0,0,0,0,0,0,0,0,0,0,0,0,0,0,0,0,18]
[19,"türkisch",14,12,0,0,0,0,0,0,0,0,0,0,0,0,0,0,0,0,1,0,0,1,19]
[20,"ukrainisch",4,3,0,0,0,0,0,0,0,0,0,0,0,0,0,0,0,0,0,1,0,0,20]
[21,"vietnamesisch",14,3,0,0,0,0,0,0,0,0,0,0,0,0,0,0,0,0,0,0,11,0,21]
[22,"sonstige"]
[null," (einschließlich \n  staatenlos/  \n  unbekannt)",65,48,0,0,0,0,1,0,0,0,0,0,0,0,1,1,0,0,0,2,0,12,22]

{"sheet":"Seite 13_1","index":26,"n_rows":42,"n_cols":4,"rows_kept":42,"cut":false,"hidden":true,"merged":[[4,0,7,1],[2,1,3,3]]}
[]
[]
["9_1","Anzahl und Anteile geschiedene Ehen 2017"]
[]
["Ehedauer in Jahren",null,"Anzahl","Anteil"]
[null,null,"Geschiedene","Geschiedene"]
[null,null,"Ehen","Ehen"]
[]
[null,"Unter 1","-","-"]
[null,1,15,{"$f":"ROUND(C10/$C$42*100,1)","v":0.4}]
[null,2,126,{"$f":"ROUND(C11/$C$42*100,1)","v":3.3}]
[null,3,169,4.4000000000000004]
[null,4,142,3.7]
[null,5,215,5.6]
[]
[null,6,227,6]
[null,7,203,5.3]
[null,8,181,4.8]
[null,9,194,5.0999999999999996]
[null,10,178,4.7]
[]
[null,11,159,4.2]
[null,12,163,4.3]
[null,13,160,4.2]
[null,14,104,2.7]
[null,15,113,3]
[]
[null,16,94,2.5]
[null,17,93,2.4]
[null,18,79,2.1]
[null,19,71,1.9]
[null,20,74,1.9]
[]
[null,21,79,2.1]
[null,22,70,1.8]
[null,23,67,1.8]
[null,24,54,1.4]
[null,25,52,1.4]
[null,26,51,1.3]
[null,"Über 26",675,17.7]
[]
[null,"insgesamt",3808,100]